Package: HelloRanges Version: 1.37.0 Command: /home/biocbuild/bbs-3.23-bioc/R/bin/R CMD check --install=check:HelloRanges.install-out.txt --library=/home/biocbuild/bbs-3.23-bioc/R/site-library --timings HelloRanges_1.37.0.tar.gz StartedAt: 2025-11-06 00:15:44 -0500 (Thu, 06 Nov 2025) EndedAt: 2025-11-06 00:24:50 -0500 (Thu, 06 Nov 2025) EllapsedTime: 546.7 seconds RetCode: 0 Status: OK CheckDir: HelloRanges.Rcheck Warnings: 0