Package: Heatplus Version: 3.19.0 Command: /home/biocbuild/bbs-3.23-bioc/R/bin/R CMD INSTALL Heatplus StartedAt: 2025-11-20 15:03:55 -0500 (Thu, 20 Nov 2025) EndedAt: 2025-11-20 15:04:04 -0500 (Thu, 20 Nov 2025) EllapsedTime: 9.3 seconds RetCode: 0 Status: OK