Package: Heatplus Version: 3.19.0 Command: /home/biocbuild/bbs-3.23-bioc/R/bin/R CMD build --keep-empty-dirs --no-resave-data Heatplus StartedAt: 2025-11-20 18:03:09 -0500 (Thu, 20 Nov 2025) EndedAt: 2025-11-20 18:03:25 -0500 (Thu, 20 Nov 2025) EllapsedTime: 16.0 seconds RetCode: 0 Status: OK PackageFile: Heatplus_3.19.0.tar.gz PackageFileSize: 1.183 MiB