Package: Heatplus Version: 3.19.0 Command: /Library/Frameworks/R.framework/Resources/bin/R CMD INSTALL Heatplus StartedAt: 2025-11-21 15:11:57 -0500 (Fri, 21 Nov 2025) EndedAt: 2025-11-21 15:12:30 -0500 (Fri, 21 Nov 2025) EllapsedTime: 32.8 seconds RetCode: 0 Status: OK