Package: Heatplus Version: 3.19.0 Command: /Library/Frameworks/R.framework/Resources/bin/R CMD build --keep-empty-dirs --no-resave-data Heatplus StartedAt: 2025-11-21 17:17:44 -0500 (Fri, 21 Nov 2025) EndedAt: 2025-11-21 17:18:09 -0500 (Fri, 21 Nov 2025) EllapsedTime: 25.2 seconds RetCode: 0 Status: OK PackageFile: Heatplus_3.19.0.tar.gz PackageFileSize: 1.182 MiB