Package: Heatplus Version: 3.19.0 Command: rm -rf Heatplus.buildbin-libdir && mkdir Heatplus.buildbin-libdir && /Users/biocbuild/BBS/utils/build-universal.sh Heatplus_3.19.0.tar.gz /Library/Frameworks/R.framework/Resources/bin/R Heatplus.buildbin-libdir StartedAt: 2025-11-22 01:38:05 -0500 (Sat, 22 Nov 2025) EndedAt: 2025-11-22 01:38:12 -0500 (Sat, 22 Nov 2025) EllapsedTime: 6.9 seconds RetCode: 0 Status: OK PackageFile: Heatplus_3.19.0.tgz PackageFileSize: 1.269 MiB