Package: Heatplus Version: 3.17.0 Command: /Library/Frameworks/R.framework/Resources/bin/R CMD build --keep-empty-dirs --no-resave-data Heatplus StartedAt: 2025-10-24 16:42:11 -0400 (Fri, 24 Oct 2025) EndedAt: 2025-10-24 16:42:20 -0400 (Fri, 24 Oct 2025) EllapsedTime: 9.1 seconds RetCode: 0 Status: OK PackageFile: Heatplus_3.17.0.tar.gz PackageFileSize: 1.183 MiB