Package: Harshlight Version: 1.81.1 Command: /home/biocbuild/R/R/bin/R CMD INSTALL Harshlight StartedAt: 2025-10-20 20:28:22 -0000 (Mon, 20 Oct 2025) EndedAt: 2025-10-20 20:28:23 -0000 (Mon, 20 Oct 2025) EllapsedTime: 1.0 seconds RetCode: 1 Status: ERROR