Package: Harshlight Version: 1.81.1 Command: /home/biocbuild/R/R/bin/R CMD build --keep-empty-dirs --no-resave-data Harshlight StartedAt: 2025-10-21 00:25:47 -0000 (Tue, 21 Oct 2025) EndedAt: 2025-10-21 00:25:48 -0000 (Tue, 21 Oct 2025) EllapsedTime: 1.0 seconds RetCode: 1 Status: ERROR PackageFile: None PackageFileSize: NA