Package: HarmonizR Version: 1.9.0 Command: /home/biocbuild/bbs-3.23-bioc/R/bin/R CMD INSTALL HarmonizR StartedAt: 2025-11-20 15:31:01 -0500 (Thu, 20 Nov 2025) EndedAt: 2025-11-20 15:31:03 -0500 (Thu, 20 Nov 2025) EllapsedTime: 2.4 seconds RetCode: 0 Status: OK