Package: Harman Version: 1.39.0 Command: /home/biocbuild/bbs-3.23-bioc/R/bin/R CMD INSTALL Harman StartedAt: 2025-11-20 15:04:02 -0500 (Thu, 20 Nov 2025) EndedAt: 2025-11-20 15:04:29 -0500 (Thu, 20 Nov 2025) EllapsedTime: 27.0 seconds RetCode: 0 Status: OK