Package: Harman Version: 1.39.0 Command: /home/biocbuild/bbs-3.23-bioc/R/bin/R CMD build --keep-empty-dirs --no-resave-data Harman StartedAt: 2025-11-20 18:02:00 -0500 (Thu, 20 Nov 2025) EndedAt: 2025-11-20 18:04:39 -0500 (Thu, 20 Nov 2025) EllapsedTime: 159.2 seconds RetCode: 0 Status: OK PackageFile: Harman_1.39.0.tar.gz PackageFileSize: 2.221 MiB