Package: Harman Version: 1.39.0 Command: /Library/Frameworks/R.framework/Resources/bin/R CMD INSTALL Harman StartedAt: 2025-11-20 15:12:17 -0500 (Thu, 20 Nov 2025) EndedAt: 2025-11-20 15:12:49 -0500 (Thu, 20 Nov 2025) EllapsedTime: 31.3 seconds RetCode: 0 Status: OK