Package: Harman Version: 1.39.0 Command: rm -rf Harman.buildbin-libdir && mkdir Harman.buildbin-libdir && /Users/biocbuild/BBS/utils/build-universal.sh Harman_1.39.0.tar.gz /Library/Frameworks/R.framework/Resources/bin/R Harman.buildbin-libdir StartedAt: 2025-11-21 01:37:31 -0500 (Fri, 21 Nov 2025) EndedAt: 2025-11-21 01:37:51 -0500 (Fri, 21 Nov 2025) EllapsedTime: 19.6 seconds RetCode: 0 Status: OK PackageFile: Harman_1.39.0.tgz PackageFileSize: 2.184 MiB