Package: Harman Version: 1.37.0 Command: /Library/Frameworks/R.framework/Resources/bin/R CMD INSTALL Harman StartedAt: 2025-10-15 15:03:29 -0400 (Wed, 15 Oct 2025) EndedAt: 2025-10-15 15:03:37 -0400 (Wed, 15 Oct 2025) EllapsedTime: 7.6 seconds RetCode: 0 Status: OK