Package: HVP Version: 0.99.5 Command: /home/biocbuild/bbs-3.22-bioc/R/bin/R CMD INSTALL HVP StartedAt: 2025-10-03 15:04:19 -0400 (Fri, 03 Oct 2025) EndedAt: 2025-10-03 15:04:24 -0400 (Fri, 03 Oct 2025) EllapsedTime: 5.0 seconds RetCode: 0 Status: OK