Package: HVP Version: 0.99.5 Command: /Library/Frameworks/R.framework/Resources/bin/R CMD build --keep-empty-dirs --no-resave-data HVP StartedAt: 2025-10-16 16:55:22 -0400 (Thu, 16 Oct 2025) EndedAt: 2025-10-16 16:55:41 -0400 (Thu, 16 Oct 2025) EllapsedTime: 19.2 seconds RetCode: 0 Status: OK PackageFile: HVP_0.99.5.tar.gz PackageFileSize: 1.169 MiB