Package: HVP Version: 0.99.5 Command: rm -rf HVP.buildbin-libdir && mkdir HVP.buildbin-libdir && /Users/biocbuild/BBS/utils/build-universal.sh HVP_0.99.5.tar.gz /Library/Frameworks/R.framework/Resources/bin/R HVP.buildbin-libdir StartedAt: 2025-10-16 23:04:40 -0400 (Thu, 16 Oct 2025) EndedAt: 2025-10-16 23:04:43 -0400 (Thu, 16 Oct 2025) EllapsedTime: 3.1 seconds RetCode: 0 Status: OK PackageFile: HVP_0.99.5.tgz PackageFileSize: 797 KiB