Package: HTqPCR Version: 1.63.0 Command: F:\biocbuild\bbs-3.22-bioc\R\bin\R.exe CMD INSTALL HTqPCR StartedAt: 2025-08-14 15:45:29 -0400 (Thu, 14 Aug 2025) EndedAt: 2025-08-14 15:45:56 -0400 (Thu, 14 Aug 2025) EllapsedTime: 27.6 seconds RetCode: 0 Status: OK