Package: HTqPCR Version: 1.63.0 Command: chmod a+r HTqPCR -R && F:\biocbuild\bbs-3.22-bioc\R\bin\R.exe CMD build --keep-empty-dirs --no-resave-data HTqPCR StartedAt: 2025-08-14 20:49:58 -0400 (Thu, 14 Aug 2025) EndedAt: 2025-08-14 20:50:30 -0400 (Thu, 14 Aug 2025) EllapsedTime: 31.9 seconds RetCode: 0 Status: OK PackageFile: HTqPCR_1.63.0.tar.gz PackageFileSize: 2.408 MiB