Package: HTqPCR Version: 1.63.0 Command: rm -rf HTqPCR.buildbin-libdir && mkdir HTqPCR.buildbin-libdir && F:\biocbuild\bbs-3.22-bioc\R\bin\R.exe CMD INSTALL --build --library=HTqPCR.buildbin-libdir HTqPCR_1.63.0.tar.gz StartedAt: 2025-08-15 10:29:02 -0400 (Fri, 15 Aug 2025) EndedAt: 2025-08-15 10:29:38 -0400 (Fri, 15 Aug 2025) EllapsedTime: 36.1 seconds RetCode: 0 Status: OK PackageFile: HTqPCR_1.63.0.zip PackageFileSize: 2.288 MiB