Package: HTqPCR Version: 1.65.0 Command: /home/biocbuild/bbs-3.23-bioc/R/bin/R CMD INSTALL HTqPCR StartedAt: 2025-11-20 15:59:56 -0500 (Thu, 20 Nov 2025) EndedAt: 2025-11-20 16:00:03 -0500 (Thu, 20 Nov 2025) EllapsedTime: 7.1 seconds RetCode: 0 Status: OK