Package: HTqPCR Version: 1.65.0 Command: /home/biocbuild/bbs-3.23-bioc/R/bin/R CMD check --install=check:HTqPCR.install-out.txt --library=/home/biocbuild/bbs-3.23-bioc/R/site-library --timings HTqPCR_1.65.0.tar.gz StartedAt: 2025-11-21 00:30:53 -0500 (Fri, 21 Nov 2025) EndedAt: 2025-11-21 00:31:45 -0500 (Fri, 21 Nov 2025) EllapsedTime: 52.1 seconds RetCode: 0 Status: OK CheckDir: HTqPCR.Rcheck Warnings: 0