Package: HTqPCR Version: 1.65.0 Command: /home/biocbuild/bbs-3.23-bioc/R/bin/R CMD build --keep-empty-dirs --no-resave-data HTqPCR StartedAt: 2025-11-20 18:07:51 -0500 (Thu, 20 Nov 2025) EndedAt: 2025-11-20 18:08:08 -0500 (Thu, 20 Nov 2025) EllapsedTime: 17.0 seconds RetCode: 0 Status: OK PackageFile: HTqPCR_1.65.0.tar.gz PackageFileSize: 2.58 MiB