Package: HPiP Version: 1.17.0 Command: /home/biocbuild/bbs-3.23-bioc/R/bin/R CMD INSTALL HPiP StartedAt: 2025-10-31 15:17:47 -0400 (Fri, 31 Oct 2025) EndedAt: 2025-10-31 15:18:07 -0400 (Fri, 31 Oct 2025) EllapsedTime: 20.3 seconds RetCode: 0 Status: OK