Package: HPiP Version: 1.17.0 Command: /home/biocbuild/bbs-3.23-bioc/R/bin/R CMD build --keep-empty-dirs --no-resave-data HPiP StartedAt: 2025-11-03 18:01:22 -0500 (Mon, 03 Nov 2025) EndedAt: 2025-11-03 18:10:50 -0500 (Mon, 03 Nov 2025) EllapsedTime: 567.6 seconds RetCode: 1 Status: ERROR PackageFile: None PackageFileSize: NA