Package: HPAanalyze Version: 1.29.0 Command: /home/biocbuild/bbs-3.23-bioc/R/bin/R CMD INSTALL HPAanalyze StartedAt: 2025-11-13 15:09:04 -0500 (Thu, 13 Nov 2025) EndedAt: 2025-11-13 15:09:21 -0500 (Thu, 13 Nov 2025) EllapsedTime: 17.1 seconds RetCode: 0 Status: OK