Package: HPAanalyze Version: 1.27.2 Command: /Library/Frameworks/R.framework/Resources/bin/R CMD INSTALL HPAanalyze StartedAt: 2025-10-27 15:04:58 -0400 (Mon, 27 Oct 2025) EndedAt: 2025-10-27 15:05:07 -0400 (Mon, 27 Oct 2025) EllapsedTime: 9.2 seconds RetCode: 0 Status: OK