Package: HPAanalyze Version: 1.27.2 Command: /Library/Frameworks/R.framework/Resources/bin/R CMD build --keep-empty-dirs --no-resave-data HPAanalyze StartedAt: 2025-10-27 16:42:47 -0400 (Mon, 27 Oct 2025) EndedAt: 2025-10-27 16:43:23 -0400 (Mon, 27 Oct 2025) EllapsedTime: 35.4 seconds RetCode: 0 Status: OK PackageFile: HPAanalyze_1.27.2.tar.gz PackageFileSize: 2.666 MiB