Package: HPAanalyze Version: 1.27.2 Command: rm -rf HPAanalyze.buildbin-libdir && mkdir HPAanalyze.buildbin-libdir && /Users/biocbuild/BBS/utils/build-universal.sh HPAanalyze_1.27.2.tar.gz /Library/Frameworks/R.framework/Resources/bin/R HPAanalyze.buildbin-libdir StartedAt: 2025-10-27 23:05:44 -0400 (Mon, 27 Oct 2025) EndedAt: 2025-10-27 23:05:55 -0400 (Mon, 27 Oct 2025) EllapsedTime: 10.3 seconds RetCode: 0 Status: OK PackageFile: HPAanalyze_1.27.2.tgz PackageFileSize: 3.425 MiB