Package: HMMcopy Version: 1.53.0 Command: /home/biocbuild/bbs-3.23-bioc/R/bin/R CMD INSTALL HMMcopy StartedAt: 2025-11-20 15:01:51 -0500 (Thu, 20 Nov 2025) EndedAt: 2025-11-20 15:01:56 -0500 (Thu, 20 Nov 2025) EllapsedTime: 5.3 seconds RetCode: 0 Status: OK