Package: HMMcopy Version: 1.53.0 Command: /home/biocbuild/bbs-3.23-bioc/R/bin/R CMD build --keep-empty-dirs --no-resave-data HMMcopy StartedAt: 2025-11-20 18:07:28 -0500 (Thu, 20 Nov 2025) EndedAt: 2025-11-20 18:07:39 -0500 (Thu, 20 Nov 2025) EllapsedTime: 11.0 seconds RetCode: 0 Status: OK PackageFile: HMMcopy_1.53.0.tar.gz PackageFileSize: 2.148 MiB