Package: HMMcopy Version: 1.51.0 Command: /Library/Frameworks/R.framework/Resources/bin/R CMD build --keep-empty-dirs --no-resave-data HMMcopy StartedAt: 2025-10-16 16:54:39 -0400 (Thu, 16 Oct 2025) EndedAt: 2025-10-16 16:54:52 -0400 (Thu, 16 Oct 2025) EllapsedTime: 13.2 seconds RetCode: 0 Status: OK PackageFile: HMMcopy_1.51.0.tar.gz PackageFileSize: 1.806 MiB