Package: HIREewas Version: 1.27.0 Command: /home/biocbuild/bbs-3.22-bioc/R/bin/R CMD INSTALL HIREewas StartedAt: 2025-09-30 15:04:21 -0400 (Tue, 30 Sep 2025) EndedAt: 2025-09-30 15:04:34 -0400 (Tue, 30 Sep 2025) EllapsedTime: 13.0 seconds RetCode: 0 Status: OK