Package: HIREewas Version: 1.29.0 Command: /Library/Frameworks/R.framework/Resources/bin/R CMD INSTALL HIREewas StartedAt: 2025-11-21 15:02:23 -0500 (Fri, 21 Nov 2025) EndedAt: 2025-11-21 15:02:29 -0500 (Fri, 21 Nov 2025) EllapsedTime: 6.2 seconds RetCode: 0 Status: OK