Package: HIREewas Version: 1.29.0 Command: /Library/Frameworks/R.framework/Resources/bin/R CMD build --keep-empty-dirs --no-resave-data HIREewas StartedAt: 2025-11-21 16:38:32 -0500 (Fri, 21 Nov 2025) EndedAt: 2025-11-21 16:38:51 -0500 (Fri, 21 Nov 2025) EllapsedTime: 19.3 seconds RetCode: 0 Status: OK PackageFile: HIREewas_1.29.0.tar.gz PackageFileSize: 265.7 KiB