Package: HIREewas Version: 1.29.0 Command: rm -rf HIREewas.buildbin-libdir && mkdir HIREewas.buildbin-libdir && /Users/biocbuild/BBS/utils/build-universal.sh HIREewas_1.29.0.tar.gz /Library/Frameworks/R.framework/Resources/bin/R HIREewas.buildbin-libdir StartedAt: 2025-11-21 23:35:55 -0500 (Fri, 21 Nov 2025) EndedAt: 2025-11-21 23:35:58 -0500 (Fri, 21 Nov 2025) EllapsedTime: 3.0 seconds RetCode: 0 Status: OK PackageFile: HIREewas_1.29.0.tgz PackageFileSize: 280.8 KiB