Package: HIPPO Version: 1.23.0 Command: /home/biocbuild/bbs-3.23-bioc/R/bin/R CMD INSTALL HIPPO StartedAt: 2025-11-20 15:19:04 -0500 (Thu, 20 Nov 2025) EndedAt: 2025-11-20 15:19:30 -0500 (Thu, 20 Nov 2025) EllapsedTime: 26.7 seconds RetCode: 0 Status: OK