Package: HIPPO Version: 1.23.0 Command: /home/biocbuild/bbs-3.23-bioc/R/bin/R CMD build --keep-empty-dirs --no-resave-data HIPPO StartedAt: 2025-11-20 18:06:57 -0500 (Thu, 20 Nov 2025) EndedAt: 2025-11-20 18:07:39 -0500 (Thu, 20 Nov 2025) EllapsedTime: 42.0 seconds RetCode: 0 Status: OK PackageFile: HIPPO_1.23.0.tar.gz PackageFileSize: 626.6 KiB