Package: HIPPO Version: 1.21.0 Command: /Library/Frameworks/R.framework/Resources/bin/R CMD INSTALL HIPPO StartedAt: 2025-10-28 15:23:16 -0400 (Tue, 28 Oct 2025) EndedAt: 2025-10-28 15:23:51 -0400 (Tue, 28 Oct 2025) EllapsedTime: 34.8 seconds RetCode: 0 Status: OK