Package: HIPPO Version: 1.21.0 Command: /Library/Frameworks/R.framework/Resources/bin/R CMD build --keep-empty-dirs --no-resave-data HIPPO StartedAt: 2025-10-28 17:21:32 -0400 (Tue, 28 Oct 2025) EndedAt: 2025-10-28 17:22:25 -0400 (Tue, 28 Oct 2025) EllapsedTime: 53.7 seconds RetCode: 0 Status: OK PackageFile: HIPPO_1.21.0.tar.gz PackageFileSize: 650.5 KiB