Package: HIPPO Version: 1.21.0 Command: /Library/Frameworks/R.framework/Resources/bin/R CMD INSTALL HIPPO StartedAt: 2025-10-15 15:13:10 -0400 (Wed, 15 Oct 2025) EndedAt: 2025-10-15 15:13:21 -0400 (Wed, 15 Oct 2025) EllapsedTime: 11.1 seconds RetCode: 0 Status: OK