Package: HIPPO Version: 1.21.0 Command: /Library/Frameworks/R.framework/Resources/bin/R CMD build --keep-empty-dirs --no-resave-data HIPPO StartedAt: 2025-10-16 16:54:22 -0400 (Thu, 16 Oct 2025) EndedAt: 2025-10-16 16:54:39 -0400 (Thu, 16 Oct 2025) EllapsedTime: 17.2 seconds RetCode: 0 Status: OK PackageFile: HIPPO_1.21.0.tar.gz PackageFileSize: 647.5 KiB