Package: HGC Version: 1.17.0 Command: /Library/Frameworks/R.framework/Resources/bin/R CMD INSTALL HGC StartedAt: 2025-10-06 15:05:47 -0400 (Mon, 06 Oct 2025) EndedAt: 2025-10-06 15:05:58 -0400 (Mon, 06 Oct 2025) EllapsedTime: 12.0 seconds RetCode: 0 Status: OK