Package: HGC Version: 1.17.0 Command: /Library/Frameworks/R.framework/Resources/bin/R CMD build --keep-empty-dirs --no-resave-data HGC StartedAt: 2025-10-05 16:43:33 -0400 (Sun, 05 Oct 2025) EndedAt: 2025-10-05 16:43:48 -0400 (Sun, 05 Oct 2025) EllapsedTime: 15.2 seconds RetCode: 0 Status: OK PackageFile: HGC_1.17.0.tar.gz PackageFileSize: 540.5 KiB