Package: HGC Version: 1.17.0 Command: rm -rf HGC.buildbin-libdir && mkdir HGC.buildbin-libdir && /Users/biocbuild/BBS/utils/build-universal.sh HGC_1.17.0.tar.gz /Library/Frameworks/R.framework/Resources/bin/R HGC.buildbin-libdir StartedAt: 2025-10-05 22:45:52 -0400 (Sun, 05 Oct 2025) EndedAt: 2025-10-05 22:46:04 -0400 (Sun, 05 Oct 2025) EllapsedTime: 12.3 seconds RetCode: 0 Status: OK PackageFile: HGC_1.17.0.tgz PackageFileSize: 614.7 KiB