Package: HERON Version: 1.9.0 Command: /home/biocbuild/bbs-3.23-bioc/R/bin/R CMD build --keep-empty-dirs --no-resave-data HERON StartedAt: 2025-11-17 18:10:12 -0500 (Mon, 17 Nov 2025) EndedAt: 2025-11-17 18:11:31 -0500 (Mon, 17 Nov 2025) EllapsedTime: 79.1 seconds RetCode: 0 Status: OK PackageFile: HERON_1.9.0.tar.gz PackageFileSize: 964.5 KiB