Package: HEM Version: 1.83.0 Command: /home/biocbuild/bbs-3.23-bioc/R/bin/R CMD INSTALL HEM StartedAt: 2025-11-21 15:13:10 -0500 (Fri, 21 Nov 2025) EndedAt: 2025-11-21 15:13:15 -0500 (Fri, 21 Nov 2025) EllapsedTime: 4.5 seconds RetCode: 0 Status: OK