Package: HEM Version: 1.83.0 Command: /home/biocbuild/bbs-3.23-bioc/R/bin/R CMD build --keep-empty-dirs --no-resave-data HEM StartedAt: 2025-11-21 18:02:42 -0500 (Fri, 21 Nov 2025) EndedAt: 2025-11-21 18:02:52 -0500 (Fri, 21 Nov 2025) EllapsedTime: 10.0 seconds RetCode: 0 Status: OK PackageFile: HEM_1.83.0.tar.gz PackageFileSize: 611.8 KiB