Package: HEM Version: 1.83.0 Command: rm -rf HEM.buildbin-libdir && mkdir HEM.buildbin-libdir && /Users/biocbuild/BBS/utils/build-universal.sh HEM_1.83.0.tar.gz /Library/Frameworks/R.framework/Resources/bin/R HEM.buildbin-libdir StartedAt: 2025-11-22 01:38:06 -0500 (Sat, 22 Nov 2025) EndedAt: 2025-11-22 01:38:19 -0500 (Sat, 22 Nov 2025) EllapsedTime: 12.7 seconds RetCode: 0 Status: OK PackageFile: HEM_1.83.0.tgz PackageFileSize: 716 KiB